BEGIN:VCALENDAR
VERSION:2.0
PRODID:-//ORTECH | Engineering Data, Lakehouse &amp; AI for Impact - ECPv6.15.20//NONSGML v1.0//EN
CALSCALE:GREGORIAN
METHOD:PUBLISH
X-ORIGINAL-URL:https://ortech.com.my
X-WR-CALDESC:Events for ORTECH | Engineering Data, Lakehouse &amp; AI for Impact
REFRESH-INTERVAL;VALUE=DURATION:PT1H
X-Robots-Tag:noindex
X-PUBLISHED-TTL:PT1H
BEGIN:VTIMEZONE
TZID:Asia/Shanghai
BEGIN:STANDARD
TZOFFSETFROM:+0800
TZOFFSETTO:+0800
TZNAME:CST
DTSTART:20250101T000000
END:STANDARD
END:VTIMEZONE
BEGIN:VEVENT
DTSTART;VALUE=DATE:20260317
DTEND;VALUE=DATE:20260318
DTSTAMP:20260421T233741
CREATED:20260310T081352Z
LAST-MODIFIED:20260310T081352Z
UID:2695-1773705600-1773791999@ortech.com.my
SUMMARY:Get to Know Embedded Analytics
DESCRIPTION:What if you could integrate data\, visualizations and dashboards anywhere you wanted? What if you could use your data to generate new revenue streams and increase the value of your services and products? \nEmbedded analytics makes it possible! \nIn this webinar\, we will give you an overview of the different possibilities of embedded analytics and the benefits it can bring you. By the end of this session\, you will be able to understand what embedded analytics is\, how you can leverage it effectively and how you can start to capitalize on your data. \n\n\nWhat to expect?\n\n\n\n\nIntroduction to Embedded Analytics\nWhat is embedded analytics and how do you use it? \n\n\n\n\nEmbedded analytics as a value creator\nWhat can embedded analytics do for your business? \n\n\n\n\nHow to exploit embedded analytics?\nThe different business models related to embedded analytics \n\n\n\n\nThis is an introductory webinar. If you are already familiar with Embedded Analytics\, you might also want to watch The Power of Embedded Analytics. \n\nRegister here
URL:https://ortech.com.my/event/get-to-know-embedded-analytics/
LOCATION:On Demand Webinar
CATEGORIES:Tableau Events
END:VEVENT
BEGIN:VEVENT
DTSTART;VALUE=DATE:20260318
DTEND;VALUE=DATE:20260319
DTSTAMP:20260421T233741
CREATED:20260310T043425Z
LAST-MODIFIED:20260310T045031Z
UID:2650-1773792000-1773878399@ortech.com.my
SUMMARY:Get to Know Tableau
DESCRIPTION:At Tableau\, we’ve helped thousands of people and organisations transform how they use data to solve business problems—do you want to do the same? \nWatch this exclusive demo to discover the secrets of Tableau’s unique approach to visual analytics. Here’s a clue—we help everyone answer their own business questions with data. \nYou’ll learn how you can use data and Tableau to solve complex business challenges in minutes—without any technical skills needed. \nLearn how Tableau can help you: \n\nTransform your data into new insights in minutes\nReimagine how you solve business problems with data\nMake your job easier with visual analytics everyone can use\n\nYou can download the pdf slides.
URL:https://ortech.com.my/event/get-to-know-tableau/
LOCATION:On Demand Webinar
CATEGORIES:Tableau Events
END:VEVENT
END:VCALENDAR